BEGIN:VCALENDAR
VERSION:2.0
PRODID:-//BVB//Add Event to Calendar //EN
BEGIN:VEVENT
UID:f499666b-9e9c-4d80-b240-4376c7738298
DTSTAMP:20260424T130140
DESCRIPTION;FMTTYPE=text/html:https://www.bvb.ro/AboutUs/MediaCenter/PressItem/Globinvest-aniverseaza-1-an-de-la-lansarea-ETF-ului-care-urmareste-indicele-BET-EF/6373
SUMMARY:Globinvest aniverseaza 1 an de la lansarea ETF-ului care urmareste indicele BET-EF
DTSTART;TZID=Europe/Bucharest:20260428T113000
DTEND;TZID=Europe/Bucharest:20260428T113000
ORGANIZER;CN=Bursa de Valori Bucuresti:mailto:bvb@bvb.ro
TRANSP:OPAQUE
END:VEVENT
END:VCALENDAR
